BEGIN:VCALENDAR
VERSION:2.0
PRODID:-//ChamberMaster//Event Calendar 2.0//EN
METHOD:PUBLISH
X-PUBLISHED-TTL:P3D
REFRESH-INTERVAL:P3D
CALSCALE:GREGORIAN
BEGIN:VEVENT
DTSTART:20230125T130000Z
DTEND:20230125T140000Z
X-MICROSOFT-CDO-ALLDAYEVENT:FALSE
SUMMARY:Zoom ONLY - Plain City Business Association (PCBA)
DESCRIPTION:PCBA\n\nSpeaker: Heather Wirtz\n\nTopic: Richwood Coffee
X-ALT-DESC;FMTTYPE=text/html:PCBA<br />\nSpeaker: Heather Wirtz<br />\nTopic: Richwood Coffee
LOCATION:Zoom ONLY Please contact twoodruff@unioncounty.org for the link.
UID:e.1767.7501
SEQUENCE:3
DTSTAMP:20260422T000748Z
URL:https://chambermaster.unioncounty.org/events/details/zoom-only-plain-city-business-association-pcba-7501
END:VEVENT

END:VCALENDAR
