BEGIN:VCALENDAR
VERSION:2.0
PRODID:-//ChamberMaster//Event Calendar 2.0//EN
METHOD:PUBLISH
X-PUBLISHED-TTL:P3D
REFRESH-INTERVAL:P3D
CALSCALE:GREGORIAN
BEGIN:VEVENT
DTSTART:20180521T220000Z
DTEND:20180522T000000Z
X-MICROSOFT-CDO-ALLDAYEVENT:FALSE
SUMMARY:Young Professionals
DESCRIPTION:Topic: How to Say No
X-ALT-DESC;FMTTYPE=text/html:Topic: How to Say No
LOCATION:Union Station 1820 109 East 5th St. Marysville
UID:e.1767.10380
SEQUENCE:3
DTSTAMP:20260425T202731Z
URL:https://chambermaster.unioncounty.org/events/details/young-professionals-10380
END:VEVENT

END:VCALENDAR
