BEGIN:VCALENDAR
VERSION:2.0
PRODID:-//ChamberMaster//Event Calendar 2.0//EN
METHOD:PUBLISH
X-PUBLISHED-TTL:P3D
REFRESH-INTERVAL:P3D
CALSCALE:GREGORIAN
BEGIN:VEVENT
DTSTART:20180115T230000Z
DTEND:20180116T010000Z
X-MICROSOFT-CDO-ALLDAYEVENT:FALSE
SUMMARY:Young Professionals
DESCRIPTION:Topic: Time Management
X-ALT-DESC;FMTTYPE=text/html:Topic: Time Management
LOCATION:Union Station 1820 109 East 5th St. Marysville
UID:e.1767.10376
SEQUENCE:3
DTSTAMP:20260426T032717Z
URL:https://chambermaster.unioncounty.org/events/details/young-professionals-10376
END:VEVENT

END:VCALENDAR
