BEGIN:VCALENDAR
VERSION:2.0
PRODID:-//ChamberMaster//Event Calendar 2.0//EN
METHOD:PUBLISH
X-PUBLISHED-TTL:P3D
REFRESH-INTERVAL:P3D
CALSCALE:GREGORIAN
BEGIN:VEVENT
DTSTART:20180716T220000Z
DTEND:20180717T000000Z
X-MICROSOFT-CDO-ALLDAYEVENT:FALSE
SUMMARY:Young Professionals
DESCRIPTION:Topic: Being Present
X-ALT-DESC;FMTTYPE=text/html:Topic: Being Present
LOCATION:Union Station 1820 109 East 5th St. Marysville
UID:e.1767.10382
SEQUENCE:3
DTSTAMP:20260425T183417Z
URL:https://chambermaster.unioncounty.org/events/details/young-professionals-07-16-2018-10382
END:VEVENT

END:VCALENDAR
