BEGIN:VCALENDAR
VERSION:2.0
PRODID:-//ChamberMaster//Event Calendar 2.0//EN
METHOD:PUBLISH
X-PUBLISHED-TTL:P3D
REFRESH-INTERVAL:P3D
CALSCALE:GREGORIAN
BEGIN:VEVENT
DTSTART:20180618T220000Z
DTEND:20180619T000000Z
X-MICROSOFT-CDO-ALLDAYEVENT:FALSE
SUMMARY:Young Professionals
DESCRIPTION:Topic: Agreeing with Challengeable Personalities
X-ALT-DESC;FMTTYPE=text/html:Topic: Agreeing with Challengeable Personalities
LOCATION:Union Station 1820 109 East 5th St. Marysville
UID:e.1767.10381
SEQUENCE:3
DTSTAMP:20260425T202852Z
URL:https://chambermaster.unioncounty.org/events/details/young-professionals-06-18-2018-10381
END:VEVENT

END:VCALENDAR
