BEGIN:VCALENDAR
VERSION:2.0
PRODID:-//ChamberMaster//Event Calendar 2.0//EN
METHOD:PUBLISH
X-PUBLISHED-TTL:P3D
REFRESH-INTERVAL:P3D
CALSCALE:GREGORIAN
BEGIN:VEVENT
DTSTART:20200527T120000Z
DTEND:20200527T130000Z
X-MICROSOFT-CDO-ALLDAYEVENT:FALSE
SUMMARY:Virtual - Plain City Business Association (PCBA)
DESCRIPTION:PCBA\n\n\n\nSpeaker: Valerie Biehl\n\nTopic: How to Become a Better Leader\n\nSponsor:\n\nRaffle:
X-ALT-DESC;FMTTYPE=text/html:PCBA<br />\n<br />\nSpeaker: Valerie Biehl<br />\nTopic: How to Become a Better Leader<br />\nSponsor:<br />\nRaffle:
LOCATION:Der Dutchman 445 S. Jefferson Ave. Plain City\, OH.
UID:e.1767.7469
SEQUENCE:3
DTSTAMP:20260424T040426Z
URL:https://chambermaster.unioncounty.org/events/details/virtual-plain-city-business-association-pcba-7469
END:VEVENT

END:VCALENDAR
