BEGIN:VCALENDAR
VERSION:2.0
PRODID:-//ChamberMaster//Event Calendar 2.0//EN
METHOD:PUBLISH
X-PUBLISHED-TTL:P3D
REFRESH-INTERVAL:P3D
CALSCALE:GREGORIAN
BEGIN:VEVENT
DTSTART:20200528T120000Z
DTEND:20200528T130000Z
X-MICROSOFT-CDO-ALLDAYEVENT:FALSE
SUMMARY:Virtual - Business Impact Breakfast
DESCRIPTION:Business Impact Breakfast Topic: Business Panel\n\nLocal Businesses will share their experiences as they navigated and progressed through the pandemic.
X-ALT-DESC;FMTTYPE=text/html:Business Impact Breakfast Topic: Business Panel<br />\nLocal Businesses will share their experiences as they navigated and progressed through the pandemic.
LOCATION:Via Zoom
UID:e.1767.9886
SEQUENCE:3
DTSTAMP:20260424T054420Z
URL:https://chambermaster.unioncounty.org/events/details/virtual-business-impact-breakfast-05-28-2020-9886
END:VEVENT

END:VCALENDAR
