BEGIN:VCALENDAR
VERSION:2.0
PRODID:-//ChamberMaster//Event Calendar 2.0//EN
METHOD:PUBLISH
X-PUBLISHED-TTL:P3D
REFRESH-INTERVAL:P3D
CALSCALE:GREGORIAN
BEGIN:VEVENT
DTSTART:20181126T220000Z
DTEND:20181127T010000Z
X-MICROSOFT-CDO-ALLDAYEVENT:FALSE
SUMMARY:Uptown Christmas Walk & Tree Lighting
DESCRIPTION:Christmas Walk & Tree Lighting
X-ALT-DESC;FMTTYPE=text/html:Christmas Walk &amp\; Tree Lighting
LOCATION:Historic Uptown Marysville is home to the Annual Holiday Christmas Walk & Tree lighting. This FREE event is held the Monday after Thanksgiving . Bring the family Uptown for a night of magic and a visit with Santa and a few of his reindeer.
UID:e.1767.12752
SEQUENCE:3
DTSTAMP:20260425T101627Z
URL:https://chambermaster.unioncounty.org/events/details/uptown-christmas-walk-tree-lighting-12752
END:VEVENT

END:VCALENDAR
