BEGIN:VCALENDAR
VERSION:2.0
PRODID:-//ChamberMaster//Event Calendar 2.0//EN
METHOD:PUBLISH
X-PUBLISHED-TTL:P3D
REFRESH-INTERVAL:P3D
CALSCALE:GREGORIAN
BEGIN:VEVENT
DTSTART:20180518T153000Z
DTEND:20180518T170000Z
X-MICROSOFT-CDO-ALLDAYEVENT:FALSE
SUMMARY:Union County Sheriff's Office Cookout
DESCRIPTION:Donations go to Marysville High School Continuing Achievement in Postsecondary Success (CAPS)\n\n- Join us for great food and fellowship \n\n\n\nMenu: Brats\, Hamburgers\, Hot Dogs\, Chips\, Macaroni Salad\, Baked Beans\, and Pop
X-ALT-DESC;FMTTYPE=text/html:<span style="font-size:16px\;">Donations go to Marysville High School Continuing Achievement in Postsecondary Success (CAPS)<br />\n- Join us for great food and fellowship&nbsp\;<br />\n<br />\nMenu: Brats\, Hamburgers\, Hot Dogs\, Chips\, Macaroni Salad\, Baked Beans\, and Pop</span><br />\n&nbsp\;
LOCATION:Union County Sheriff's Office 221 West 5th Street Marysville\, Ohio 43040
UID:e.1767.12711
SEQUENCE:3
DTSTAMP:20260425T203016Z
URL:https://chambermaster.unioncounty.org/events/details/union-county-sheriff-s-office-cookout-12711
END:VEVENT

END:VCALENDAR
