BEGIN:VCALENDAR
VERSION:2.0
PRODID:-//ChamberMaster//Event Calendar 2.0//EN
METHOD:PUBLISH
X-PUBLISHED-TTL:P3D
REFRESH-INTERVAL:P3D
CALSCALE:GREGORIAN
BEGIN:VEVENT
DTSTART:20210904T113000Z
DTEND:20210904T160000Z
X-MICROSOFT-CDO-ALLDAYEVENT:FALSE
SUMMARY:Union County Foundation Covered Bridge Cycling Tour
DESCRIPTION:You'll enjoy the low-traffic\, gently rolling roads of Union\, Champaign\, and Logan Counties\, on the way to historic covered bridges. The 31\, 61\, AND 74 miles rides will include visits to four of our area's most beautiful historic covered bridges. The 19-mile route will include one bridge.
X-ALT-DESC;FMTTYPE=text/html:<span style="font-size:16px\;"><span style="font-family:arial\;"><span style="color: rgb(35\, 31\, 27)\; background-color: rgb(255\, 255\, 255)\;">You&rsquo\;ll enjoy the low-traffic\, gently rolling roads of Union\, Champaign\, and Logan Counties\, on the way to historic covered bridges. The 31\, 61\, AND 74 miles rides will include visits to four of our area&rsquo\;s most beautiful historic covered bridges. The 19-mile route will include one bridge.</span></span></span>
LOCATION:Edgewood School 203 Grove St. Marysville\, OH. 43040
UID:e.1767.13157
SEQUENCE:3
DTSTAMP:20260422T191739Z
URL:https://chambermaster.unioncounty.org/events/details/union-county-foundation-covered-bridge-cycling-tour-13157
END:VEVENT

END:VCALENDAR
