BEGIN:VCALENDAR
VERSION:2.0
PRODID:-//ChamberMaster//Event Calendar 2.0//EN
METHOD:PUBLISH
X-PUBLISHED-TTL:P3D
REFRESH-INTERVAL:P3D
CALSCALE:GREGORIAN
BEGIN:VEVENT
DTSTART:20180926T220000Z
DTEND:20180927T003000Z
X-MICROSOFT-CDO-ALLDAYEVENT:FALSE
SUMMARY:Union County Foundation Celebration
DESCRIPTION:This annual Foundation Celebration fund raising event includes a silent auction\, sit down dinner\, guest speaker\, and live auction. The event is open to the public. Tickets can be purchased online from the Union County Foundation. This event is guaranteed fun for all!
X-ALT-DESC;FMTTYPE=text/html:This annual Foundation Celebration fund raising event includes a silent auction\, sit down dinner\, guest speaker\, and live auction. The event is open to the public. Tickets can be purchased online from the Union County Foundation. This event is guaranteed fun for all!
LOCATION:Honda Heritage Center\, 24025 Honda Parkway\, Marysville\, Ohio 43040
UID:e.1767.10532
SEQUENCE:3
DTSTAMP:20260425T133120Z
URL:https://chambermaster.unioncounty.org/events/details/union-county-foundation-celebration-09-26-2018-10532
END:VEVENT

END:VCALENDAR
