BEGIN:VCALENDAR
VERSION:2.0
PRODID:-//ChamberMaster//Event Calendar 2.0//EN
METHOD:PUBLISH
X-PUBLISHED-TTL:P3D
REFRESH-INTERVAL:P3D
CALSCALE:GREGORIAN
BEGIN:VEVENT
DTSTART:20180426T220000Z
DTEND:20180426T233000Z
X-MICROSOFT-CDO-ALLDAYEVENT:FALSE
SUMMARY:Union County Bicentennial Kick Off Event
DESCRIPTION:Join us as we kick off the planning for the Union County Bicentennial in 2020!
X-ALT-DESC;FMTTYPE=text/html:Join us as we kick off the planning for the Union County Bicentennial in 2020!
LOCATION:Veterans Memorial Auditorium 233 W. 6th St. Marysville
UID:e.1767.11699
SEQUENCE:3
DTSTAMP:20260426T000039Z
URL:https://chambermaster.unioncounty.org/events/details/union-county-bicentennial-kick-off-event-11699
END:VEVENT

END:VCALENDAR
