BEGIN:VCALENDAR
VERSION:2.0
PRODID:-//ChamberMaster//Event Calendar 2.0//EN
METHOD:PUBLISH
X-PUBLISHED-TTL:P3D
REFRESH-INTERVAL:P3D
CALSCALE:GREGORIAN
BEGIN:VEVENT
DTSTART:20200401T210000Z
DTEND:20200402T000000Z
X-MICROSOFT-CDO-ALLDAYEVENT:FALSE
SUMMARY:Union County Bicentennial Founding Day Celebration
DESCRIPTION:Union County Founding Day Celebration\n\nCome celebrate Union County's 200th Birthday! There will be Courthouse tours\, an art show\, the launch of the Union County Passport\, food trucks\, and refreshments.
X-ALT-DESC;FMTTYPE=text/html:Union County Founding Day Celebration<br />\nCome celebrate Union County&#39\;s 200th Birthday! There will be Courthouse tours\, an art show\, the launch of the Union County Passport\, food trucks\, and refreshments.
LOCATION:Union County Veterans Memorial Auditorium 223 West 6th Street\, Marysville
UID:e.1767.13093
SEQUENCE:3
DTSTAMP:20260424T054246Z
URL:https://chambermaster.unioncounty.org/events/details/union-county-bicentennial-founding-day-celebration-13093
END:VEVENT

END:VCALENDAR
