BEGIN:VCALENDAR
VERSION:2.0
PRODID:-//ChamberMaster//Event Calendar 2.0//EN
METHOD:PUBLISH
X-PUBLISHED-TTL:P3D
REFRESH-INTERVAL:P3D
CALSCALE:GREGORIAN
BEGIN:VEVENT
DTSTART:20180901T113000Z
DTEND:20180901T193000Z
X-MICROSOFT-CDO-ALLDAYEVENT:FALSE
SUMMARY:UCF Covered Bridges Cycling Tour
DESCRIPTION:Full service cycling event offering low traffic\, gently rolling roads of Union County leading to historic covered bridges. Routes of 19\, 30\, 63\, and 72 miles are offered. Four covered bridges included on each route (19 mile route includes one covered bridge). This is a fun event for all cycling skill levels. This event is also part of the Union County Health Departments Grand Prix Series. Come out and ride and see our great covered bridges!
X-ALT-DESC;FMTTYPE=text/html:Full service cycling event offering low traffic\, gently rolling roads of Union County leading to historic covered bridges. Routes of 19\, 30\, 63\, and 72 miles are offered. Four covered bridges included on each route (19 mile route includes one covered bridge). This is a fun event for all cycling skill levels. This event is also part of the Union County Health Departments Grand Prix Series. Come out and ride and see our great covered bridges!
LOCATION:Start point is Edgewood Elementary School\, 2013 Grove St.\, Marysville\, Ohio 43040.
UID:e.1767.10531
SEQUENCE:3
DTSTAMP:20260425T133206Z
URL:https://chambermaster.unioncounty.org/events/details/ucf-covered-bridges-cycling-tour-10531
END:VEVENT

END:VCALENDAR
