BEGIN:VCALENDAR
VERSION:2.0
PRODID:-//ChamberMaster//Event Calendar 2.0//EN
METHOD:PUBLISH
X-PUBLISHED-TTL:P3D
REFRESH-INTERVAL:P3D
CALSCALE:GREGORIAN
BEGIN:VEVENT
DTSTART:20180708T170000Z
DTEND:20180708T210000Z
X-MICROSOFT-CDO-ALLDAYEVENT:FALSE
SUMMARY:Tour of Gardens
DESCRIPTION:Visit town and country gardens on the Union County Master Gardener Garden Tour Sunday\, July 8 from 1-5 p.m. See landscaping examples of butterfly\, conifer\, hosta\, perennial\, shade and vegetable gardens at six residences and demonstration gardens at the Agricultural Center. There will be educational displays at each site.
X-ALT-DESC;FMTTYPE=text/html:Visit town and country gardens on the Union County Master Gardener Garden Tour Sunday\, July 8 from 1-5 p.m. See landscaping examples of butterfly\, conifer\, hosta\, perennial\, shade and vegetable gardens at six residences and demonstration gardens at the Agricultural Center. There will be educational displays at each site.
LOCATION:18000 St. Rt. 4\, Marysville Union County Agricultural Center
UID:e.1767.10687
SEQUENCE:3
DTSTAMP:20260425T170151Z
URL:https://chambermaster.unioncounty.org/events/details/tour-of-gardens-10687
END:VEVENT

END:VCALENDAR
