BEGIN:VCALENDAR
VERSION:2.0
PRODID:-//ChamberMaster//Event Calendar 2.0//EN
METHOD:PUBLISH
X-PUBLISHED-TTL:P3D
REFRESH-INTERVAL:P3D
CALSCALE:GREGORIAN
BEGIN:VEVENT
DTSTART:20180314T161500Z
DTEND:20180314T183000Z
X-MICROSOFT-CDO-ALLDAYEVENT:FALSE
SUMMARY:Tolles Career & Technical Center Annual Job Fair
DESCRIPTION:Attention Job Seekers!\n\n\n\nArea business & industry from Franklin\, Madison\, and Union Counties will be represented. Many businesses will be available to conduct on-site interviews.\n\n\n\nCome prepared with your resume. This event is free and open to the public. Both full and part time job seekers are welcome
X-ALT-DESC;FMTTYPE=text/html:Attention Job Seekers!<br />\n<br />\nArea business &amp\; industry from Franklin\, Madison\, and Union Counties will be represented. Many businesses will be available to conduct on-site interviews.<br />\n<br />\nCome prepared with your resume. This event is free and open to the public. Both full and part time job seekers are welcome
LOCATION:Tolles Career & Technical center Tolles Auditorium 7877 US Rt. 42 South\, Plain City
UID:e.1767.10689
SEQUENCE:3
DTSTAMP:20260426T000448Z
URL:https://chambermaster.unioncounty.org/events/details/tolles-career-technical-center-annual-job-fair-10689
END:VEVENT

END:VCALENDAR
