BEGIN:VCALENDAR
VERSION:2.0
PRODID:-//ChamberMaster//Event Calendar 2.0//EN
METHOD:PUBLISH
X-PUBLISHED-TTL:P3D
REFRESH-INTERVAL:P3D
CALSCALE:GREGORIAN
BEGIN:VEVENT
DTSTART:20190325T220000Z
DTEND:20190325T233000Z
X-MICROSOFT-CDO-ALLDAYEVENT:FALSE
SUMMARY:Toastmasters Club Open House
DESCRIPTION:My Catalyst Toastmasters
X-ALT-DESC;FMTTYPE=text/html:My Catalyst Toastmasters
LOCATION:Scotts Le Herron Wellness Center 14210 Scottslawn Rd Marysville\, OH 43040
UID:e.1767.12779
SEQUENCE:3
DTSTAMP:20260425T030918Z
URL:https://chambermaster.unioncounty.org/events/details/toastmasters-club-open-house-12779
END:VEVENT

END:VCALENDAR
