BEGIN:VCALENDAR
VERSION:2.0
PRODID:-//ChamberMaster//Event Calendar 2.0//EN
METHOD:PUBLISH
X-PUBLISHED-TTL:P3D
REFRESH-INTERVAL:P3D
CALSCALE:GREGORIAN
BEGIN:VEVENT
DTSTART;VALUE=DATE:20201029
DTEND;VALUE=DATE:20201030
TRANSP:TRANSPARENT
X-MICROSOFT-CDO-ALLDAYEVENT:TRUE
SUMMARY:The Residences at Bethel Woods Groundbreaking Event
DESCRIPTION:
X-ALT-DESC;FMTTYPE=text/html:
LOCATION:1501 W Fifth St Marysville\, OH 43040
UID:e.1767.13135
SEQUENCE:3
DTSTAMP:20260423T194716Z
URL:https://chambermaster.unioncounty.org/events/details/the-residences-at-bethel-woods-groundbreaking-event-13135
END:VEVENT

END:VCALENDAR
