BEGIN:VCALENDAR
VERSION:2.0
PRODID:-//ChamberMaster//Event Calendar 2.0//EN
METHOD:PUBLISH
X-PUBLISHED-TTL:P3D
REFRESH-INTERVAL:P3D
CALSCALE:GREGORIAN
BEGIN:VEVENT
DTSTART:20180316T160000Z
DTEND:20180316T170000Z
X-MICROSOFT-CDO-ALLDAYEVENT:FALSE
SUMMARY:The Basics - Memory Loss\, Dementia and Alzheimer's Disease
DESCRIPTION:An Education Program by the Alzheimer's Association -\n\n\n\nIf you or someone you know is affected by Alzheimer's disease or dementia\, it's time to learn the facts. This programs provides information on detection\, causes and risk factors\, stages of the disease\, treatement and much more.
X-ALT-DESC;FMTTYPE=text/html:An Education Program by the Alzheimer&#39\;s Association -<br />\n<br />\nIf you or someone you know is affected by Alzheimer&#39\;s disease or dementia\, it&#39\;s time to learn the facts. This programs provides information on detection\, causes and risk factors\, stages of the disease\, treatement and much more.
LOCATION:Union County Senior Services Center 940 London Avenue - Conf Room B Marysville\, OH 43040
UID:e.1767.10692
SEQUENCE:3
DTSTAMP:20260426T000453Z
URL:https://chambermaster.unioncounty.org/events/details/the-basics-memory-loss-dementia-and-alzheimer-s-disease-10692
END:VEVENT

END:VCALENDAR
