BEGIN:VCALENDAR
VERSION:2.0
PRODID:-//ChamberMaster//Event Calendar 2.0//EN
METHOD:PUBLISH
X-PUBLISHED-TTL:P3D
REFRESH-INTERVAL:P3D
CALSCALE:GREGORIAN
BEGIN:VEVENT
DTSTART:20180613T190000Z
DTEND:20180613T200000Z
X-MICROSOFT-CDO-ALLDAYEVENT:FALSE
SUMMARY:Talk To A Doc
DESCRIPTION:Early detection of Alzheimer's disease gives you a chance to begin drug therapy\, enroll in clinical studies\, and plan for the future. This program will review behaviors that may be exhibited by someone with dementia\, when it s safe to use medication\, and when it is important to find the root cause of the behaviors.
X-ALT-DESC;FMTTYPE=text/html:Early detection of Alzheimer&#39\;s disease gives you a chance to begin drug therapy\, enroll in clinical studies\, and plan for the future. This program will review behaviors that may be exhibited by someone with dementia\, when it s safe to use medication\, and when it is important to find the root cause of the behaviors.
LOCATION:Union County Senior Services Building 940 London Avenue Marysville\, Oh 43040
UID:e.1767.12714
SEQUENCE:3
DTSTAMP:20260425T183821Z
URL:https://chambermaster.unioncounty.org/events/details/talk-to-a-doc-12714
END:VEVENT

END:VCALENDAR
