BEGIN:VCALENDAR
VERSION:2.0
PRODID:-//ChamberMaster//Event Calendar 2.0//EN
METHOD:PUBLISH
X-PUBLISHED-TTL:P3D
REFRESH-INTERVAL:P3D
CALSCALE:GREGORIAN
BEGIN:VEVENT
DTSTART:20190606T203000Z
DTEND:20190606T223000Z
X-MICROSOFT-CDO-ALLDAYEVENT:FALSE
SUMMARY:Summer Open House - Monarch Skilled Nursing & Rehab.
DESCRIPTION:Summer Open House\n\nMonarch Skilled Nursing & Rehab.
X-ALT-DESC;FMTTYPE=text/html:Summer Open House<br />\nMonarch Skilled Nursing &amp\; Rehab.
LOCATION:Monarch Skilled Nursing and Rehab 730 Milcrest Dr. Marysville\, OH
UID:e.1767.12795
SEQUENCE:3
DTSTAMP:20260424T233748Z
URL:https://chambermaster.unioncounty.org/events/details/summer-open-house-monarch-skilled-nursing-rehab-12795
END:VEVENT

END:VCALENDAR
