BEGIN:VCALENDAR
VERSION:2.0
PRODID:-//ChamberMaster//Event Calendar 2.0//EN
METHOD:PUBLISH
X-PUBLISHED-TTL:P3D
REFRESH-INTERVAL:P3D
CALSCALE:GREGORIAN
BEGIN:VEVENT
DTSTART:20190326T163000Z
DTEND:20190326T174500Z
X-MICROSOFT-CDO-ALLDAYEVENT:FALSE
SUMMARY:Suicide Prevention Training
DESCRIPTION:Suicide Prevention Training\n\nSpeaker: Holly Zweizig\n\nMental Health & Recovery Board of UC
X-ALT-DESC;FMTTYPE=text/html:Suicide Prevention Training<br />\nSpeaker: Holly Zweizig<br />\nMental Health &amp\; Recovery Board of UC
LOCATION:UC Chamber of Commerce Office 227 E. Fifth St. Marysville\, OH.43040
UID:e.1767.12775
SEQUENCE:3
DTSTAMP:20260425T030652Z
URL:https://chambermaster.unioncounty.org/events/details/suicide-prevention-training-12775
END:VEVENT

END:VCALENDAR
