BEGIN:VCALENDAR
VERSION:2.0
PRODID:-//ChamberMaster//Event Calendar 2.0//EN
METHOD:PUBLISH
X-PUBLISHED-TTL:P3D
REFRESH-INTERVAL:P3D
CALSCALE:GREGORIAN
BEGIN:VEVENT
DTSTART:20180309T234500Z
DTEND:20180309T234500Z
X-MICROSOFT-CDO-ALLDAYEVENT:FALSE
SUMMARY:Stir Fresh Asian Canteen - Rite of Spring Ribbon Cutting
DESCRIPTION:Join us for Stir Fresh Asian Canteen's Rite of Spring Ribbon Cutting.\n\nStop by for appetizers and Lion Dance Performance!
X-ALT-DESC;FMTTYPE=text/html:Join us for Stir Fresh Asian Canteen&#39\;s Rite of Spring Ribbon Cutting.<br />\nStop by for appetizers and Lion Dance Performance!
LOCATION:Stir Fresh Asian Canteen 160 Emmaus Rd\, Marysville
UID:e.1767.10690
SEQUENCE:3
DTSTAMP:20260426T000452Z
URL:https://chambermaster.unioncounty.org/events/details/stir-fresh-asian-canteen-rite-of-spring-ribbon-cutting-10690
END:VEVENT

END:VCALENDAR
