BEGIN:VCALENDAR
VERSION:2.0
PRODID:-//ChamberMaster//Event Calendar 2.0//EN
METHOD:PUBLISH
X-PUBLISHED-TTL:P3D
REFRESH-INTERVAL:P3D
CALSCALE:GREGORIAN
BEGIN:VEVENT
DTSTART:20190620T203000Z
DTEND:20190620T203000Z
X-MICROSOFT-CDO-ALLDAYEVENT:FALSE
SUMMARY:Shine FM Summer Kick-off Concert
DESCRIPTION:FREE concert in the park\, featuring Austin French
X-ALT-DESC;FMTTYPE=text/html:FREE concert in the park\, featuring Austin French
LOCATION:Partners Park Pavilion
UID:e.1767.12811
SEQUENCE:3
DTSTAMP:20260424T214328Z
URL:https://chambermaster.unioncounty.org/events/details/shine-fm-summer-kick-off-concert-12811
END:VEVENT

END:VCALENDAR
