BEGIN:VCALENDAR
VERSION:2.0
PRODID:-//ChamberMaster//Event Calendar 2.0//EN
METHOD:PUBLISH
X-PUBLISHED-TTL:P3D
REFRESH-INTERVAL:P3D
CALSCALE:GREGORIAN
BEGIN:VEVENT
DTSTART:20180505T210000Z
DTEND:20180506T040000Z
X-MICROSOFT-CDO-ALLDAYEVENT:FALSE
SUMMARY:Shine FM 6th Anniversary Celebration
DESCRIPTION:6th Anniversary Celebration May 5th\, 2018 Bellefontaine First Church of God Time TBA Artist: Meredith Andrews
X-ALT-DESC;FMTTYPE=text/html:6th Anniversary Celebration May 5th\, 2018 Bellefontaine First Church of God Time TBA Artist: Meredith Andrews
LOCATION:Bellefontaine First Church of God
UID:e.1767.10526
SEQUENCE:3
DTSTAMP:20260425T202925Z
URL:https://chambermaster.unioncounty.org/events/details/shine-fm-6th-anniversary-celebration-10526
END:VEVENT

END:VCALENDAR
