BEGIN:VCALENDAR
VERSION:2.0
PRODID:-//ChamberMaster//Event Calendar 2.0//EN
METHOD:PUBLISH
X-PUBLISHED-TTL:P3D
REFRESH-INTERVAL:P3D
CALSCALE:GREGORIAN
BEGIN:VEVENT
DTSTART;VALUE=DATE:20180803
DTEND;VALUE=DATE:20180806
TRANSP:TRANSPARENT
X-MICROSOFT-CDO-ALLDAYEVENT:TRUE
SUMMARY:Rock the Lake Christian Concert
DESCRIPTION:Rock The Lake 2018 August 3-5\, 2018 Indian Lake State Park in Lakeview\, OH Artists: Carrollton\, Unspoken\, and Headliner TBA Sponsored by Shine FM
X-ALT-DESC;FMTTYPE=text/html:Rock The Lake 2018 August 3-5\, 2018 Indian Lake State Park in Lakeview\, OH Artists: Carrollton\, Unspoken\, and Headliner TBA Sponsored by Shine FM
LOCATION:Indian Lake State Park\, Old Field Beech
UID:e.1767.10527
SEQUENCE:3
DTSTAMP:20260425T153138Z
URL:https://chambermaster.unioncounty.org/events/details/rock-the-lake-christian-concert-10527
END:VEVENT

END:VCALENDAR
