BEGIN:VCALENDAR
VERSION:2.0
PRODID:-//ChamberMaster//Event Calendar 2.0//EN
METHOD:PUBLISH
X-PUBLISHED-TTL:P3D
REFRESH-INTERVAL:P3D
CALSCALE:GREGORIAN
BEGIN:VEVENT
DTSTART:20200801T190000Z
DTEND:20200802T030000Z
X-MICROSOFT-CDO-ALLDAYEVENT:FALSE
SUMMARY:Rock the Lake
DESCRIPTION:Rock the Lake\, Musical Festival Gates open at 3:00pm Artist at 4:30 https://2020.rockthelakeohio.com/
X-ALT-DESC;FMTTYPE=text/html:Rock the Lake\, Musical Festival Gates open at 3:00pm Artist at 4:30 https://2020.rockthelakeohio.com/
LOCATION:Logan County Fairgrounds 301 E. Lake Ave. Bellefontaine\, Ohio 43311
UID:e.1767.13114
SEQUENCE:3
DTSTAMP:20260423T225655Z
URL:https://chambermaster.unioncounty.org/events/details/rock-the-lake-13114
END:VEVENT

END:VCALENDAR
