BEGIN:VCALENDAR
VERSION:2.0
PRODID:-//ChamberMaster//Event Calendar 2.0//EN
METHOD:PUBLISH
X-PUBLISHED-TTL:P3D
REFRESH-INTERVAL:P3D
CALSCALE:GREGORIAN
BEGIN:VEVENT
DTSTART:20180616T110000Z
DTEND:20180617T030000Z
X-MICROSOFT-CDO-ALLDAYEVENT:FALSE
SUMMARY:Richwood Sun Run 5K
DESCRIPTION:Come join us for one of Ohio's Oldest 5k races\, the Richwood Sun Run 5k Run/Walk which enters it's 40th year.  Walk-up Registration begins at 7 a.m.\n\n\n\nThis is a family friendly event and is suitable for all ages. We will have a 5k event as well as a shorter 2-mile event\, followed by a kids fun run on the Track.\n\n\n\nAll 5k finishers under 15 receive a medal and all kids fun run finishers receive a neat running pin.
X-ALT-DESC;FMTTYPE=text/html:Come join us for one of Ohio&#39\;s Oldest 5k races\, the Richwood Sun Run 5k Run/Walk which enters it&#39\;s 40th year. &nbsp\;Walk-up Registration begins at 7 a.m.<br />\n<br />\nThis is a family friendly event and is suitable for all ages. We will have a 5k event as well as a shorter 2-mile event\, followed by a kids fun run on the Track.<br />\n<br />\nAll 5k finishers under 15 receive a medal and all kids fun run finishers receive a neat running pin.
LOCATION:This years event will be held on Saturday\, June 16 at North Union High School\; 401 N. Franklin Street\, Richwood\, Ohio.
UID:e.1767.10670
SEQUENCE:3
DTSTAMP:20260425T202908Z
URL:https://chambermaster.unioncounty.org/events/details/richwood-sun-run-5k-10670
END:VEVENT

END:VCALENDAR
