BEGIN:VCALENDAR
VERSION:2.0
PRODID:-//ChamberMaster//Event Calendar 2.0//EN
METHOD:PUBLISH
X-PUBLISHED-TTL:P3D
REFRESH-INTERVAL:P3D
CALSCALE:GREGORIAN
BEGIN:VEVENT
DTSTART;VALUE=DATE:20180829
DTEND;VALUE=DATE:20180904
TRANSP:TRANSPARENT
X-MICROSOFT-CDO-ALLDAYEVENT:TRUE
SUMMARY:Richwood Independent Fair
DESCRIPTION:Richwood Independent Fair
X-ALT-DESC;FMTTYPE=text/html:Richwood Independent Fair<br />\n<br />\n&nbsp\;
LOCATION:Richwood Fair Grounds 1 Gill St\, Richwood\, OH
UID:e.1767.12739
SEQUENCE:3
DTSTAMP:20260425T133201Z
URL:https://chambermaster.unioncounty.org/events/details/richwood-independent-fair-12739
END:VEVENT

END:VCALENDAR
