BEGIN:VCALENDAR
VERSION:2.0
PRODID:-//ChamberMaster//Event Calendar 2.0//EN
METHOD:PUBLISH
X-PUBLISHED-TTL:P3D
REFRESH-INTERVAL:P3D
CALSCALE:GREGORIAN
BEGIN:VEVENT
DTSTART:20280912T160000Z
DTEND:20280912T170000Z
X-MICROSOFT-CDO-ALLDAYEVENT:FALSE
SUMMARY:Richwood Area Business Association (RABA)
DESCRIPTION:Richwood Area Business Association Monthly Meeting
X-ALT-DESC;FMTTYPE=text/html:<span style="font-size:12px\;">Richwood Area Business Association Monthly Meeting</span>
LOCATION:Richwood-North Union Public Library 4 East Ottawa Street Richwood\, OH 43344
UID:e.1767.13950
SEQUENCE:3
DTSTAMP:20260423T053803Z
URL:https://chambermaster.unioncounty.org/events/details/richwood-area-business-association-raba-09-12-2028-13950
END:VEVENT

END:VCALENDAR
