BEGIN:VCALENDAR
VERSION:2.0
PRODID:-//ChamberMaster//Event Calendar 2.0//EN
METHOD:PUBLISH
X-PUBLISHED-TTL:P3D
REFRESH-INTERVAL:P3D
CALSCALE:GREGORIAN
BEGIN:VEVENT
DTSTART:20211214T170000Z
DTEND:20211214T180000Z
X-MICROSOFT-CDO-ALLDAYEVENT:FALSE
SUMMARY:Richwood Area Business Association
DESCRIPTION:Richwood Area Business Association\n\nSpeaker: Richwood Bank
X-ALT-DESC;FMTTYPE=text/html:Richwood Area Business Association<br />\nSpeaker: Richwood Bank
LOCATION:Richwood Marketing 15 East Ottawa Street\, Richwood
UID:e.1767.6769
SEQUENCE:3
DTSTAMP:20260422T162858Z
URL:https://chambermaster.unioncounty.org/events/details/richwood-area-business-association-12-14-2021-6769
END:VEVENT

END:VCALENDAR
