BEGIN:VCALENDAR
VERSION:2.0
PRODID:-//ChamberMaster//Event Calendar 2.0//EN
METHOD:PUBLISH
X-PUBLISHED-TTL:P3D
REFRESH-INTERVAL:P3D
CALSCALE:GREGORIAN
BEGIN:VEVENT
DTSTART:20221213T170000Z
DTEND:20221213T180000Z
X-MICROSOFT-CDO-ALLDAYEVENT:FALSE
SUMMARY:Richwood Area Business Association
DESCRIPTION:Richwood Area Business Association\n\nTopic: Richwood Bank
X-ALT-DESC;FMTTYPE=text/html:Richwood Area Business Association<br />\nTopic: Richwood Bank
LOCATION:North Union Public Library 4 East Ottawa Street\, Richwood
UID:e.1767.6781
SEQUENCE:3
DTSTAMP:20260422T020744Z
URL:https://chambermaster.unioncounty.org/events/details/richwood-area-business-association-12-13-2022-6781
END:VEVENT

END:VCALENDAR
