BEGIN:VCALENDAR
VERSION:2.0
PRODID:-//ChamberMaster//Event Calendar 2.0//EN
METHOD:PUBLISH
X-PUBLISHED-TTL:P3D
REFRESH-INTERVAL:P3D
CALSCALE:GREGORIAN
BEGIN:VEVENT
DTSTART:20181113T170000Z
DTEND:20181113T180000Z
X-MICROSOFT-CDO-ALLDAYEVENT:FALSE
SUMMARY:Richwood Area Business Association
DESCRIPTION:Sponsor - Edward Jones\, Cory Hixson
X-ALT-DESC;FMTTYPE=text/html:Sponsor - Edward Jones\, Cory Hixson
LOCATION:Richwood Marketing 15 East Ottawa St.
UID:e.1767.6732
SEQUENCE:3
DTSTAMP:20260425T102646Z
URL:https://chambermaster.unioncounty.org/events/details/richwood-area-business-association-11-13-2018-6732
END:VEVENT

END:VCALENDAR
