BEGIN:VCALENDAR
VERSION:2.0
PRODID:-//ChamberMaster//Event Calendar 2.0//EN
METHOD:PUBLISH
X-PUBLISHED-TTL:P3D
REFRESH-INTERVAL:P3D
CALSCALE:GREGORIAN
BEGIN:VEVENT
DTSTART:20201110T170000Z
DTEND:20201110T180000Z
X-MICROSOFT-CDO-ALLDAYEVENT:FALSE
SUMMARY:Richwood Area Business Association
DESCRIPTION:Richwood Area Business Association\n\nSpeaker: Union County Foundation & Union County United Way
X-ALT-DESC;FMTTYPE=text/html:Richwood Area Business Association<br />\nSpeaker: Union County Foundation &amp\; Union County United Way
LOCATION:Richwood Marketing 15 East Ottawa St.
UID:e.1767.6756
SEQUENCE:3
DTSTAMP:20260423T092436Z
URL:https://chambermaster.unioncounty.org/events/details/richwood-area-business-association-11-10-2020-6756
END:VEVENT

END:VCALENDAR
