BEGIN:VCALENDAR
VERSION:2.0
PRODID:-//ChamberMaster//Event Calendar 2.0//EN
METHOD:PUBLISH
X-PUBLISHED-TTL:P3D
REFRESH-INTERVAL:P3D
CALSCALE:GREGORIAN
BEGIN:VEVENT
DTSTART:20221108T170000Z
DTEND:20221108T180000Z
X-MICROSOFT-CDO-ALLDAYEVENT:FALSE
SUMMARY:Richwood Area Business Association
DESCRIPTION:Richwood Area Business Association\n\nTopic: North Union Local Schools
X-ALT-DESC;FMTTYPE=text/html:Richwood Area Business Association<br />\nTopic: North Union Local Schools
LOCATION:North Union Public Library 4 East Ottawa Street Richwood
UID:e.1767.6780
SEQUENCE:3
DTSTAMP:20260421T215715Z
URL:https://chambermaster.unioncounty.org/events/details/richwood-area-business-association-11-08-2022-6780
END:VEVENT

END:VCALENDAR
