BEGIN:VCALENDAR
VERSION:2.0
PRODID:-//ChamberMaster//Event Calendar 2.0//EN
METHOD:PUBLISH
X-PUBLISHED-TTL:P3D
REFRESH-INTERVAL:P3D
CALSCALE:GREGORIAN
BEGIN:VEVENT
DTSTART:20211012T160000Z
DTEND:20211012T170000Z
X-MICROSOFT-CDO-ALLDAYEVENT:FALSE
SUMMARY:Richwood Area Business Association
DESCRIPTION:Topic/Speaker: Memorial Health
X-ALT-DESC;FMTTYPE=text/html:Topic/Speaker: Memorial Health&nbsp\;
LOCATION:Richwood Marketing 15 East Ottawa Street\, Richwood
UID:e.1767.6767
SEQUENCE:3
DTSTAMP:20260422T175926Z
URL:https://chambermaster.unioncounty.org/events/details/richwood-area-business-association-10-12-2021-6767
END:VEVENT

END:VCALENDAR
