BEGIN:VCALENDAR
VERSION:2.0
PRODID:-//ChamberMaster//Event Calendar 2.0//EN
METHOD:PUBLISH
X-PUBLISHED-TTL:P3D
REFRESH-INTERVAL:P3D
CALSCALE:GREGORIAN
BEGIN:VEVENT
DTSTART:20221011T160000Z
DTEND:20221011T170000Z
X-MICROSOFT-CDO-ALLDAYEVENT:FALSE
SUMMARY:Richwood Area Business Association
DESCRIPTION:Richwood Area Business Association\n\nTopic: Union County United Way
X-ALT-DESC;FMTTYPE=text/html:Richwood Area Business Association<br />\nTopic: Union County United Way
LOCATION:North Union Public Library 4 East Ottawa Street\, Richwood
UID:e.1767.6779
SEQUENCE:3
DTSTAMP:20260421T235836Z
URL:https://chambermaster.unioncounty.org/events/details/richwood-area-business-association-10-11-2022-6779
END:VEVENT

END:VCALENDAR
