BEGIN:VCALENDAR
VERSION:2.0
PRODID:-//ChamberMaster//Event Calendar 2.0//EN
METHOD:PUBLISH
X-PUBLISHED-TTL:P3D
REFRESH-INTERVAL:P3D
CALSCALE:GREGORIAN
BEGIN:VEVENT
DTSTART:20180911T160000Z
DTEND:20180911T170000Z
X-MICROSOFT-CDO-ALLDAYEVENT:FALSE
SUMMARY:Richwood Area Business Association
DESCRIPTION:Sponsors - Union County Foundation\n\n                    United Way
X-ALT-DESC;FMTTYPE=text/html:Sponsors - Union County Foundation<br />\n&nbsp\;&nbsp\;&nbsp\;&nbsp\;&nbsp\;&nbsp\;&nbsp\;&nbsp\;&nbsp\;&nbsp\;&nbsp\;&nbsp\;&nbsp\;&nbsp\;&nbsp\;&nbsp\;&nbsp\; &nbsp\; United Way
LOCATION:Richwood Marketing 15 East Ottawa St.
UID:e.1767.6730
SEQUENCE:3
DTSTAMP:20260425T133435Z
URL:https://chambermaster.unioncounty.org/events/details/richwood-area-business-association-09-11-2018-6730
END:VEVENT

END:VCALENDAR
