BEGIN:VCALENDAR
VERSION:2.0
PRODID:-//ChamberMaster//Event Calendar 2.0//EN
METHOD:PUBLISH
X-PUBLISHED-TTL:P3D
REFRESH-INTERVAL:P3D
CALSCALE:GREGORIAN
BEGIN:VEVENT
DTSTART:20200908T160000Z
DTEND:20200908T170000Z
X-MICROSOFT-CDO-ALLDAYEVENT:FALSE
SUMMARY:Richwood Area Business Association
DESCRIPTION:Richwood Area Business Association\n\nSpeaker: Union County Board of Developmental Disabilities
X-ALT-DESC;FMTTYPE=text/html:Richwood Area Business Association<br />\nSpeaker: Union County Board of Developmental Disabilities
LOCATION:Via Webex
UID:e.1767.6754
SEQUENCE:3
DTSTAMP:20260423T211812Z
URL:https://chambermaster.unioncounty.org/events/details/richwood-area-business-association-09-08-2020-6754
END:VEVENT

END:VCALENDAR
