BEGIN:VCALENDAR
VERSION:2.0
PRODID:-//ChamberMaster//Event Calendar 2.0//EN
METHOD:PUBLISH
X-PUBLISHED-TTL:P3D
REFRESH-INTERVAL:P3D
CALSCALE:GREGORIAN
BEGIN:VEVENT
DTSTART:20180814T160000Z
DTEND:20180814T170000Z
X-MICROSOFT-CDO-ALLDAYEVENT:FALSE
SUMMARY:Richwood Area Business Association
DESCRIPTION:Sponsor - Union County Convention & Visitors Bureau
X-ALT-DESC;FMTTYPE=text/html:Sponsor - Union County&nbsp\;Convention &amp\; Visitors Bureau&nbsp\;
LOCATION:Richwood Marketing 15 East Ottawa St.
UID:e.1767.6729
SEQUENCE:3
DTSTAMP:20260425T153214Z
URL:https://chambermaster.unioncounty.org/events/details/richwood-area-business-association-08-14-2018-6729
END:VEVENT

END:VCALENDAR
