BEGIN:VCALENDAR
VERSION:2.0
PRODID:-//ChamberMaster//Event Calendar 2.0//EN
METHOD:PUBLISH
X-PUBLISHED-TTL:P3D
REFRESH-INTERVAL:P3D
CALSCALE:GREGORIAN
BEGIN:VEVENT
DTSTART:20200811T160000Z
DTEND:20200811T170000Z
X-MICROSOFT-CDO-ALLDAYEVENT:FALSE
SUMMARY:Richwood Area Business Association
DESCRIPTION:Richwood Area Business Association\n\nSpeaker: Union County Convention & Visitors Bureau
X-ALT-DESC;FMTTYPE=text/html:Richwood Area Business Association<br />\nSpeaker: Union County Convention &amp\; Visitors Bureau
LOCATION:WebEx Meeting
UID:e.1767.6753
SEQUENCE:3
DTSTAMP:20260423T230309Z
URL:https://chambermaster.unioncounty.org/events/details/richwood-area-business-association-08-11-2020-6753
END:VEVENT

END:VCALENDAR
