BEGIN:VCALENDAR
VERSION:2.0
PRODID:-//ChamberMaster//Event Calendar 2.0//EN
METHOD:PUBLISH
X-PUBLISHED-TTL:P3D
REFRESH-INTERVAL:P3D
CALSCALE:GREGORIAN
BEGIN:VEVENT
DTSTART:20220614T160000Z
DTEND:20220614T170000Z
X-MICROSOFT-CDO-ALLDAYEVENT:FALSE
SUMMARY:Richwood Area Business Association
DESCRIPTION:Richwood Area Business Association\n\nTopic: Union County Drug Free Coalition
X-ALT-DESC;FMTTYPE=text/html:Richwood Area Business Association<br />\nTopic: Union County Drug Free Coalition
LOCATION:Richwood Public Library 4 East Ottawa Street\, Richwood
UID:e.1767.6775
SEQUENCE:3
DTSTAMP:20260422T075145Z
URL:https://chambermaster.unioncounty.org/events/details/richwood-area-business-association-06-14-2022-6775
END:VEVENT

END:VCALENDAR
