BEGIN:VCALENDAR
VERSION:2.0
PRODID:-//ChamberMaster//Event Calendar 2.0//EN
METHOD:PUBLISH
X-PUBLISHED-TTL:P3D
REFRESH-INTERVAL:P3D
CALSCALE:GREGORIAN
BEGIN:VEVENT
DTSTART:20230509T160000Z
DTEND:20230509T170000Z
X-MICROSOFT-CDO-ALLDAYEVENT:FALSE
SUMMARY:Richwood Area Business Association
DESCRIPTION:Richwood Area Business Association\n\nLunch Sponsor: Union County Tourism
X-ALT-DESC;FMTTYPE=text/html:Richwood Area Business Association<br />\nLunch Sponsor: Union County Tourism
LOCATION:Richwood-North Union Public Library 4 East Ottawa Street\, Richwood
UID:e.1767.6786
SEQUENCE:3
DTSTAMP:20260421T130355Z
URL:https://chambermaster.unioncounty.org/events/details/richwood-area-business-association-05-09-2023-6786
END:VEVENT

END:VCALENDAR
