BEGIN:VCALENDAR
VERSION:2.0
PRODID:-//ChamberMaster//Event Calendar 2.0//EN
METHOD:PUBLISH
X-PUBLISHED-TTL:P3D
REFRESH-INTERVAL:P3D
CALSCALE:GREGORIAN
BEGIN:VEVENT
DTSTART:20200414T160000Z
DTEND:20200414T170000Z
X-MICROSOFT-CDO-ALLDAYEVENT:FALSE
SUMMARY:Richwood Area Business Association
DESCRIPTION:Richwood Area Business Association\n\nSpeaker: Richwood Civic Center
X-ALT-DESC;FMTTYPE=text/html:Richwood Area Business Association<br />\nSpeaker: Richwood Civic Center
LOCATION:Richwood Marketing 15 East Ottawa St.
UID:e.1767.6749
SEQUENCE:3
DTSTAMP:20260424T072652Z
URL:https://chambermaster.unioncounty.org/events/details/richwood-area-business-association-04-14-2020-6749
END:VEVENT

END:VCALENDAR
