BEGIN:VCALENDAR
VERSION:2.0
PRODID:-//ChamberMaster//Event Calendar 2.0//EN
METHOD:PUBLISH
X-PUBLISHED-TTL:P3D
REFRESH-INTERVAL:P3D
CALSCALE:GREGORIAN
BEGIN:VEVENT
DTSTART:20190312T160000Z
DTEND:20190312T170000Z
X-MICROSOFT-CDO-ALLDAYEVENT:FALSE
SUMMARY:Richwood Area Business Association
DESCRIPTION:Richwood Area Business Association\n\nNorth Union Schools
X-ALT-DESC;FMTTYPE=text/html:Richwood Area Business Association<br />\nNorth Union Schools
LOCATION:North Union School District Office 12920 St Rt 739 Richwood
UID:e.1767.6736
SEQUENCE:3
DTSTAMP:20260425T031157Z
URL:https://chambermaster.unioncounty.org/events/details/richwood-area-business-association-03-12-2019-6736
END:VEVENT

END:VCALENDAR
