BEGIN:VCALENDAR
VERSION:2.0
PRODID:-//ChamberMaster//Event Calendar 2.0//EN
METHOD:PUBLISH
X-PUBLISHED-TTL:P3D
REFRESH-INTERVAL:P3D
CALSCALE:GREGORIAN
BEGIN:VEVENT
DTSTART:20200310T160000Z
DTEND:20200310T170000Z
X-MICROSOFT-CDO-ALLDAYEVENT:FALSE
SUMMARY:Richwood Area Business Association
DESCRIPTION:Richwood Area Business Association\n\nSpeaker: Shine FM
X-ALT-DESC;FMTTYPE=text/html:<span style="font-size:16px\;">Richwood Area Business Association<br />\nSpeaker: Shine FM</span>
LOCATION:Richwood Marketing 15 East Ottawa St.
UID:e.1767.6748
SEQUENCE:3
DTSTAMP:20260424T072720Z
URL:https://chambermaster.unioncounty.org/events/details/richwood-area-business-association-03-10-2020-6748
END:VEVENT

END:VCALENDAR
