BEGIN:VCALENDAR
VERSION:2.0
PRODID:-//ChamberMaster//Event Calendar 2.0//EN
METHOD:PUBLISH
X-PUBLISHED-TTL:P3D
REFRESH-INTERVAL:P3D
CALSCALE:GREGORIAN
BEGIN:VEVENT
DTSTART:20180213T170000Z
DTEND:20180213T180000Z
X-MICROSOFT-CDO-ALLDAYEVENT:FALSE
SUMMARY:Richwood Area Business Association
DESCRIPTION:Sponsor - Wagler Badenhop Inc.
X-ALT-DESC;FMTTYPE=text/html:Sponsor - Wagler&nbsp\;Badenhop&nbsp\;Inc.
LOCATION:Richwood Marketing 15 East Ottawa St.
UID:e.1767.6723
SEQUENCE:3
DTSTAMP:20260426T033226Z
URL:https://chambermaster.unioncounty.org/events/details/richwood-area-business-association-02-13-2018-6723
END:VEVENT

END:VCALENDAR
