BEGIN:VCALENDAR
VERSION:2.0
PRODID:-//ChamberMaster//Event Calendar 2.0//EN
METHOD:PUBLISH
X-PUBLISHED-TTL:P3D
REFRESH-INTERVAL:P3D
CALSCALE:GREGORIAN
BEGIN:VEVENT
DTSTART:20210112T170000Z
DTEND:20210112T180000Z
X-MICROSOFT-CDO-ALLDAYEVENT:FALSE
SUMMARY:Richwood Area Business Association
DESCRIPTION:Richwood Area Business Association\n\nSpeaker: Richwood Mayor Scott Jerew
X-ALT-DESC;FMTTYPE=text/html:Richwood Area Business Association<br />\nSpeaker: Richwood Mayor Scott Jerew
LOCATION:Via Webex
UID:e.1767.6758
SEQUENCE:3
DTSTAMP:20260423T081848Z
URL:https://chambermaster.unioncounty.org/events/details/richwood-area-business-association-01-12-2021-6758
END:VEVENT

END:VCALENDAR
