BEGIN:VCALENDAR
VERSION:2.0
PRODID:-//ChamberMaster//Event Calendar 2.0//EN
METHOD:PUBLISH
X-PUBLISHED-TTL:P3D
REFRESH-INTERVAL:P3D
CALSCALE:GREGORIAN
BEGIN:VEVENT
DTSTART:20230110T170000Z
DTEND:20230110T180000Z
X-MICROSOFT-CDO-ALLDAYEVENT:FALSE
SUMMARY:Richwood Area Business Association
DESCRIPTION:Richwood Area Business Association\n\nSpeaker: Memorial Health
X-ALT-DESC;FMTTYPE=text/html:Richwood Area Business Association<br />\nSpeaker: Memorial Health
LOCATION:North Union Public Library 4 East Ottawa Street\, Richwood
UID:e.1767.6782
SEQUENCE:3
DTSTAMP:20260421T190457Z
URL:https://chambermaster.unioncounty.org/events/details/richwood-area-business-association-01-10-2023-6782
END:VEVENT

END:VCALENDAR
