BEGIN:VCALENDAR
VERSION:2.0
PRODID:-//ChamberMaster//Event Calendar 2.0//EN
METHOD:PUBLISH
X-PUBLISHED-TTL:P3D
REFRESH-INTERVAL:P3D
CALSCALE:GREGORIAN
BEGIN:VEVENT
DTSTART:20190529T203000Z
DTEND:20190529T203000Z
X-MICROSOFT-CDO-ALLDAYEVENT:FALSE
SUMMARY:Ribbon Cutting - ViaQuest Hospice
DESCRIPTION:Grand Opening Ribbon Cutting for ViaQuest Hospice
X-ALT-DESC;FMTTYPE=text/html:Grand Opening Ribbon Cutting for ViaQuest Hospice
LOCATION:171 Morey Drive Suite B\, Marysville
UID:e.1767.12793
SEQUENCE:3
DTSTAMP:20260424T233602Z
URL:https://chambermaster.unioncounty.org/events/details/ribbon-cutting-viaquest-hospice-12793
END:VEVENT

END:VCALENDAR
